BEGIN:VCALENDAR
VERSION:2.0
PRODID:-//Fotobond Gelderland Zuid - ECPv6.15.20//NONSGML v1.0//EN
CALSCALE:GREGORIAN
METHOD:PUBLISH
X-WR-CALNAME:Fotobond Gelderland Zuid
X-ORIGINAL-URL:https://fotobondgelderlandzuid.nl
X-WR-CALDESC:Evenementen voor Fotobond Gelderland Zuid
REFRESH-INTERVAL;VALUE=DURATION:PT1H
X-Robots-Tag:noindex
X-PUBLISHED-TTL:PT1H
BEGIN:VTIMEZONE
TZID:Europe/Amsterdam
BEGIN:DAYLIGHT
TZOFFSETFROM:+0100
TZOFFSETTO:+0200
TZNAME:CEST
DTSTART:20240331T010000
END:DAYLIGHT
BEGIN:STANDARD
TZOFFSETFROM:+0200
TZOFFSETTO:+0100
TZNAME:CET
DTSTART:20241027T010000
END:STANDARD
BEGIN:DAYLIGHT
TZOFFSETFROM:+0100
TZOFFSETTO:+0200
TZNAME:CEST
DTSTART:20250330T010000
END:DAYLIGHT
BEGIN:STANDARD
TZOFFSETFROM:+0200
TZOFFSETTO:+0100
TZNAME:CET
DTSTART:20251026T010000
END:STANDARD
BEGIN:DAYLIGHT
TZOFFSETFROM:+0100
TZOFFSETTO:+0200
TZNAME:CEST
DTSTART:20260329T010000
END:DAYLIGHT
BEGIN:STANDARD
TZOFFSETFROM:+0200
TZOFFSETTO:+0100
TZNAME:CET
DTSTART:20261025T010000
END:STANDARD
END:VTIMEZONE
BEGIN:VEVENT
DTSTART;VALUE=DATE:20250515
DTEND;VALUE=DATE:20251002
DTSTAMP:20260420T101425
CREATED:20240122T160610Z
LAST-MODIFIED:20250511T130949Z
UID:2452-1747270800-1759280399@fotobondgelderlandzuid.nl
SUMMARY:Uitnodiging Regionale Digitale Fotowedstrijd
DESCRIPTION:Uitnodiging Regionale Digitale Fotowedstrijd 2025\, Arnhem\, mei 2025\nAan de besturen van de fotoclubs van Fotobond Afdeling Gelderland Zuid \nFotokring Arnhem heeft met veel plezier aangeboden om de organisatie van de Regionale Digitale Fotowedstrijd (RDF) in 2025 te verzorgen.\nWij nodigen bij deze dan ook alle fotoclubs van afdeling Gelderland-Zuid uit om hieraan deel te nemen. Tevens het vriendelijke verzoek om de RDF in uw jaarprogramma op te nemen. \nDe RDF is een fotowedstrijd voor alle clubs uit de afdeling Gelderland-Zuid. Iedere fotoclub kan een serie van 8 foto’s met een onderlinge samenhang insturen. De keuze van het onderwerp is vrij. Zo is de wedstrijd een prachtig middel voor iedere fotoclub om de lat wat hoger te leggen en hun leden te stimuleren hun creativiteit verder te ontplooien. Wij hopen op mooie\, verrassende en intrigerende foto’s. \nDe sluitingsdatum voor het insturen van uw foto’s is 30 september 2025. Nadere informatie met alle details\, zoals het reglement RDF\, wedstrijd procedures\, belangrijke\ndata\, etc. zal u zeer binnenkort worden toegestuurd. \nDe presentatie zal plaatsvinden op:\nwoensdagavond 12 november 2025 van 19:30 tot 21:30 uur.\nlocatie “De Stek” aan de Rijksweg 53 te Duiven\n(inloop is vanaf 19.00 uur en de presentatie start stipt om 19:30 uur).\nDeze locatie beschikt over een prachtig groot scherm over de volle breedte van het podium. Wij zullen de ingezonden foto’s daar optimaal projecteren. \nMet vriendelijke groet\,\nFotokring Arnhem\nSerge Gielkens\, Michel Lichtenberg en Robin van der Hijden
URL:https://fotobondgelderlandzuid.nl/event/uitnodiging-regionale-digitale-fotowedstrijd/
CATEGORIES:RDF,Wedstrijd
ATTACH;FMTTYPE=image/png:https://fotobondgelderlandzuid.nl/wp-content/uploads/2024/01/RDF2025_affiche.png
END:VEVENT
BEGIN:VEVENT
DTSTART;VALUE=DATE:20250521
DTEND;VALUE=DATE:20250609
DTSTAMP:20260420T101425
CREATED:20250329T102159Z
LAST-MODIFIED:20250329T102545Z
UID:2728-1747789200-1749344399@fotobondgelderlandzuid.nl
SUMMARY:Grote Fotobond-expositieDEVENTER
DESCRIPTION:Grote Fotobond-expositie in de Lebuinuskerk Deventer: 21 mei t/m 7 juni 2025 \nEen unieke expositie van de winnende foto’s van de Bondsfotowedstrijd\, Foto Nationaal\, Foto Individueel en Foto Online\, aangevuld met een selectie van de coördinatoren. \nOpening is op woensdag 21 mei om 19.00 uur. Op zaterdag 31 mei presenteren de Landelijke Genregroepen zich hier tijdens in de Dag FotoDag. \nKijk voor de meest recente informatie op het platform op de website van de Fotobond.
URL:https://fotobondgelderlandzuid.nl/event/grote-fotobond-expositiedeventer/
LOCATION:Lebuinuskerk\, Grote Kerkhof 40\, DEVENTER\, 7411 KV
CATEGORIES:Clubexpositie
ATTACH;FMTTYPE=image/webp:https://fotobondgelderlandzuid.nl/wp-content/uploads/2025/03/Expositie-Deventer-Foto-Kring-in-de-Lebuinuskerk-foto-1024x682.jpg.webp
END:VEVENT
BEGIN:VEVENT
DTSTART;TZID=Europe/Amsterdam:20250524T100000
DTEND;TZID=Europe/Amsterdam:20250525T170000
DTSTAMP:20260420T101425
CREATED:20250427T074814Z
LAST-MODIFIED:20250430T220213Z
UID:2750-1748080800-1748192400@fotobondgelderlandzuid.nl
SUMMARY:Expositie Jan PrinsLENT
DESCRIPTION:Jan Prins toont beelden uit de serie: \n‘ALTIJD MET WAT WAS’\nOver het verwerken van een religieus verleden \nwanneer?\nzaterdag 24 en zondag 25 mei 2025\nvan 10.00-17.00 uur\nwaar?\nDorpsschuur Lent
URL:https://fotobondgelderlandzuid.nl/event/foto-expositie-jan-prinslent/
LOCATION:Dorpsschuur Lent\, Oosterhoutsedijk 29\, 6663 KS LENT
CATEGORIES:Clubexpositie
ATTACH;FMTTYPE=image/jpeg:https://fotobondgelderlandzuid.nl/wp-content/uploads/2025/04/affiche20expositie20120van201-2.jpg
END:VEVENT
BEGIN:VEVENT
DTSTART;TZID=Europe/Amsterdam:20250531T110000
DTEND;TZID=Europe/Amsterdam:20250531T160000
DTSTAMP:20260420T101425
CREATED:20250526T114218Z
LAST-MODIFIED:20250526T114337Z
UID:2784-1748689200-1748707200@fotobondgelderlandzuid.nl
SUMMARY:DagFotoDagDEVENTER
DESCRIPTION:Fotobond organiseert DagFotoDag\nZaterdag 31 mei 2025 organiseert de Koninklijke Fotobond weer een interessante DagFotoDag in de Lebuinuskerk te Deventer. Deze unieke dag belooft een waar festijn te worden voor fotografie-enthousiastelingen\, met boeiende lezingen\, inspirerende demonstraties\, portfolio reviews en talloze interessante fotografeermogelijkheden in Deventer. \nOp deze dag zijn diverse Landelijke Groepen van de Fotobond vertegenwoordigd om de fotografie in al haar facetten ten toon te spreiden. De dag biedt een rijke verscheidenheid aan onderwerpen\, waaronder portretfotografie\, creatieve fotografie\, fotograferen met drones\, smartphonefotografie\, internationale fotografie (FIAP) en architectuurfotografie. Het programma begint om 11.00 uur en de hele kerk zal worden omgetoverd tot een bruisende hub van activiteiten. De bezoekers kunnen terecht voor interessante presentaties\, lezingen en portfolioreviews. Hier krijgen fotografen de kans om te leren van experts en hun eigen fotografische vaardigheden te verbeteren. \nDe toegang tot de DagFotoDag is gratis (ook voor niet-leden)\, dus breng je camera en je passie voor fotografie mee en bezoek dit unieke evenement georganiseerd door de Koninklijke Fotobond. Mis deze kans niet om je fotografische horizon te verbreden en te genieten van een dag vol inspiratie en creativiteit. \nLandelijke groepen\nEr zijn diverse landelijke groepen aanwezig op de DagFotoDag. Een landelijke groep richt zich actief op een onderscheidend onderdeel van de fotografie. \n* Architectuur * Bondsmeesterklasse * Creatief * FIAP (internationaal) * Portretfotografie * Smartphonefotografie * Dronefotografie \nwanneer\nZaterdag 31 mei 2025\, 11.00 uur tot 16.00 uur\nwaar\nLebuinuskerk\,\nGrote Kerkhof 40\,\n7411 KV  DEVENTER
URL:https://fotobondgelderlandzuid.nl/event/fotobond-organiseert-dagfotodag-31-meideventer/
LOCATION:Lebuinuskerk\, Grote Kerkhof 40\, DEVENTER\, 7411 KV
CATEGORIES:Clubexpositie,Foto-event,Lezing
ATTACH;FMTTYPE=image/jpeg:https://fotobondgelderlandzuid.nl/wp-content/uploads/2025/05/DagFotoDag_2025.jpg
END:VEVENT
END:VCALENDAR