BEGIN:VCALENDAR
VERSION:2.0
PRODID:-//Fotobond Gelderland Zuid - ECPv6.15.20//NONSGML v1.0//EN
CALSCALE:GREGORIAN
METHOD:PUBLISH
X-WR-CALNAME:Fotobond Gelderland Zuid
X-ORIGINAL-URL:https://fotobondgelderlandzuid.nl
X-WR-CALDESC:Evenementen voor Fotobond Gelderland Zuid
REFRESH-INTERVAL;VALUE=DURATION:PT1H
X-Robots-Tag:noindex
X-PUBLISHED-TTL:PT1H
BEGIN:VTIMEZONE
TZID:Europe/Amsterdam
BEGIN:DAYLIGHT
TZOFFSETFROM:+0100
TZOFFSETTO:+0200
TZNAME:CEST
DTSTART:20230326T010000
END:DAYLIGHT
BEGIN:STANDARD
TZOFFSETFROM:+0200
TZOFFSETTO:+0100
TZNAME:CET
DTSTART:20231029T010000
END:STANDARD
BEGIN:DAYLIGHT
TZOFFSETFROM:+0100
TZOFFSETTO:+0200
TZNAME:CEST
DTSTART:20240331T010000
END:DAYLIGHT
BEGIN:STANDARD
TZOFFSETFROM:+0200
TZOFFSETTO:+0100
TZNAME:CET
DTSTART:20241027T010000
END:STANDARD
BEGIN:DAYLIGHT
TZOFFSETFROM:+0100
TZOFFSETTO:+0200
TZNAME:CEST
DTSTART:20250330T010000
END:DAYLIGHT
BEGIN:STANDARD
TZOFFSETFROM:+0200
TZOFFSETTO:+0100
TZNAME:CET
DTSTART:20251026T010000
END:STANDARD
END:VTIMEZONE
BEGIN:VEVENT
DTSTART;TZID=Europe/Amsterdam:20241102T110000
DTEND;TZID=Europe/Amsterdam:20241103T170000
DTSTAMP:20260422T115717
CREATED:20241022T082835Z
LAST-MODIFIED:20241022T082835Z
UID:2643-1730545200-1730653200@fotobondgelderlandzuid.nl
SUMMARY:Expositie: Fotoclub Nijmegen
DESCRIPTION:Jaarlijkse expositie van eigen werk. \nDit jaar vindt de expositie plaats in Theater het Badhuis\, gekozen is voor deze locatie\, omdat deze midden in de levendige stad /wijk ligt.\nHet badhuis is van oudsher een plaats waar buurtbewoners samen komen\, niet alleen voor de wekelijkse badbeurt\, maar ook om elkaar te ontmoeten en bij te praten.\nHet Badhuis is al lang gesloten als badhuis en is getransformeerd tot Theater.\nExposeren in een voormalig badhuis en een huidige theaterzaal vormde voor de Fotoclub Nijmegen de uitdaging: breng ‘water’ en ‘licht’ bij elkaar. In de foyer is fotowerk te zien\, hierop  geïnspireerd. \nIn de theaterzaal\, een plaats die uitnodigt tot creativiteit\, is een opstelling te zien van vrij werk van de fotografen. Zij laten zich van hun beste kant zien.\nEen fotograaf wordt vaak gezien als solist\, maar ook samen komen zij tot mooie producten. De leden van de fotoclub hebben in 2024 twee bijzondere fotoprojecten uitgevoerd. Prachtige foto’s van sporters die gebruik maken van Sportpark De Dennen (levensgroot te zien in de kantine van het sportpark) en een digitale fotoreportage van de Vierdaagse Camping\, ook op het terrein van Sportpark De Dennen. Deze reportage is eveneens te zien op de expo. \nTijdens de expo is de bar van de foyer geopend en is het mogelijk elkaar te ontmoeten en wat te drinken. \nwanneer?\nZaterdag 2 en zondag 3 november 2024; 11.00-17.00 uur\nwaar?\nTheater Het Badhuis\nDaalseweg 262\nNijmegen.\ntoegang?\nGratis
URL:https://fotobondgelderlandzuid.nl/event/expositie-fotoclub-nijmegen/
LOCATION:Theater het Badhuis\, Daalseweg 262\, NIJMEGEN
CATEGORIES:Clubexpositie
ATTACH;FMTTYPE=image/jpeg:https://fotobondgelderlandzuid.nl/wp-content/uploads/2024/10/Expo-Badhuis.jpg
END:VEVENT
BEGIN:VEVENT
DTSTART;TZID=Europe/Amsterdam:20241106T190000
DTEND;TZID=Europe/Amsterdam:20241106T190000
DTSTAMP:20260422T115717
CREATED:20230517T075431Z
LAST-MODIFIED:20240309T085723Z
UID:2335-1730919600-1730919600@fotobondgelderlandzuid.nl
SUMMARY:'Vijf met Samenhang'Doetinchem
DESCRIPTION:Uitnodiging\n‘Vijf met Samenhang’ een avond van Fotobond Afdeling Gelderland Zuid\, georganiseerd door Fotoclub De Oude IJssel uit Doetinchem.\nFotoclub De Oude IJssel uit Doetinchem organiseert weer de jaarlijkse ‘Vijf met Samenhang’-avond (voorheen Portfolioavond) voor de Afdeling Gelderland Zuid. Wij nodigen de leden van alle verenigingen en individuele leden uit om met een serie van 5 foto’s met samenhang deel te nemen. Deze worden door een deskundige bespreker van commentaar voorzien. Bovendien mag de spreker enkele deelnemers nomineren om deel te nemen aan de Foto Nationaal 2025. \nDigitaal inzenden én prints meenemen of laten printen!\nStuur uiterlijk (datum volgt nog) je beelden digitaal via WeTransfer.com naar coen@heveling.com onder vermelding van je naam\, verenigingsnaam en Fotobondlidnummer. Geef ook duidelijk aan\nwat de volgorde van de te bespreken foto’s is. Hiervan maken wij een presentatie om de bespreking te ondersteunen met een projectie van de te bespreken foto’s.\nWe printen alle foto’s op A4-formaat en plakken die op tafels. Bij binnenkomst kunt je daar je afdrukken op  leggen. Zo komen ze op volgorde van presentatie en bespreking te liggen. Op verzoek kan Coen Heveling je ondersteunen met afdrukken\, opplakken en in passe-partout zetten.\nDe te bespreken foto’s moeten afgedrukt aangeleverd te worden\, liefst opgeplakt en eventueel in passe-partout. Voorkeurs buitenmaat van het passe-partout is 40 x 50 cm. De foto’s moeten ‘zelfstandig’ kunnen staan\, ze worden niet gehangen. Aan het eind van de avond neemt u uw foto’s weer nee naar huis.\nAls je de serie wilt laten afdrukken door Coen Heveling\, dan vind je hier alle informatie (Let op pdf van vorig jaar). \nN.B. Willen de secretariaten uiterlijk – datum volgt nog – per e-mail doorgeven hoeveel stoelen we voor jouw vereniging mogen klaarzetten? We hopen op een grote\ndeelname. \nNamens Fotoclub De Oude IJssel\,\nCoen Heveling\ncoen@heveling.com\n06-44547689\nwww.fotoclubdeoudeijssel.nl \ntijd\nWoensdag 6 november 2024\, 20.00 uur\, zaal open om 19.000 uur.\nDe foto’s moeten uiterlijk -datum volgt nog- ingezonden worden voor deelname.\nlocatie (onder voorbehoud)\nZaal Teunissen in Kilder\nHoofdstraat 2\n70356 AK  KILDER\nEr is ruim voldoende gratis parkeergelegenheid.\ninfo\nwww.fotoclubdeoudeijssel.nl
URL:https://fotobondgelderlandzuid.nl/event/portfolioavond-doetinchem/
LOCATION:Zaal Teunissen\, Hoofdstraat 2\, KILDER\, 7035 AK
CATEGORIES:Vijf met Samenhang
ATTACH;FMTTYPE=image/jpeg:https://fotobondgelderlandzuid.nl/wp-content/uploads/2014/11/Bilderberg-2016-AFC-de-Oude-Ijssel-055.jpg
END:VEVENT
BEGIN:VEVENT
DTSTART;TZID=Europe/Amsterdam:20241116T120000
DTEND;TZID=Europe/Amsterdam:20241116T163000
DTSTAMP:20260422T115717
CREATED:20241007T090102Z
LAST-MODIFIED:20241007T090135Z
UID:2620-1731758400-1731774600@fotobondgelderlandzuid.nl
SUMMARY:Dag van het Fotoboek; NIJMEGEN
DESCRIPTION:Nieuw event: Dag van het Fotoboek brengt fotografen\, uitgevers en verzamelaars samen\nOp zaterdag 16 november 2024 vindt de eerste editie van de Dag van het Fotoboek plaats in Nijmegen\, georganiseerd door FotoEventNijmegen. Deze dag biedt een unieke ontmoetingsplek voor fotografen\, vormgevers\, uitgevers\, verzamelaars en andere liefhebbers van het fotoboek. Het evenement biedt een inspirerend programma met een boekenmarkt\, meerdere lezingen en een werktafel. Fotoboek: een kunst op zich.\nVoor veel fotografen is een fotoboek de ultieme vorm om hun werk blijvend vast te leggen. Waar een expositie vaak slechts enkele weken te zien is\, biedt een fotoboek de mogelijkheid om een verhaal tijdloos te delen. Het maken van een fotoboek is echter geen eenvoudige opgave: het is een creatief proces vol uitdagingen\, van de eerste selectie van beelden tot de uiteindelijke promotie en verkoop. \nTijdens de Dag van het Fotoboek komen deze aspecten uitgebreid aan bod. Een van de sprekers is Mariet Dingemans\, bekend van haar prijswinnende fotoboek One Shower a Week. Dingemans documenteerde gedurende drieënhalf jaar de duurzame woongemeenschap De Brouwketel en verwerkt haar achtergrond in culturele antropologie in haar werk. “Het maken van een fotoboek is een intens proces\,” vertelt Dingemans. “Het maken van het boek ging voor mij vrij soepel\, maar de promotie vergt doorzettingsvermogen.” Tijdens haar presentatie toont ze beelden uit haar boek\, deelt ze haar ervaringen en geeft ze praktische tips aan andere fotografen die hun eigen boek willen realiseren.\nKeuzes in het maakproces en uitgeefproces\nYorick de Vries\, eigenaar van Studio Another Day en mede eigenaar van uitgeverij Books by Koos en Maria Dabrowski\, kunstenaar/ fotografe\, geven een presentatie over de feitelijke stappen en de te maken keuzes in het maakproces. Waarom kies je een uitgever en wat is de relatie tussen uitgever en fotograaf in het maak- en verkoopproces? Tijdens de presentatie delen beide de ervaringen rondom het maakproces van het fotoboek SYNC van Maria Dabrowski.\nEen dag vol inspiratie en verbinding\nNaast lezingen biedt de Dag van het Fotoboek een boekenmarkt waar bezoekers boeken kunnen kopen en bladeren door bijzondere fotoboeken. Ook is er ruimte om met uitgevers in gesprek te gaan\, te leren van succesvolle fotografen en deel te nemen aan interactieve workshops. Fotografen hebben aan de ruiltafel bovendien de mogelijkheid uit de eigen collectie fotoboeken te ruilen met andere liefhebbers. En aan de werktafel ‘Vertel jouw verhaal’ kan men oefenen met het selecteren van foto’s en deze te ordenen tot een krachtig visueel verhaal. Het evenement stimuleert niet alleen inspiratie\, maar biedt ook kansen voor nieuwe samenwerkingen binnen de wereld van fotografie. \nOver de organisatie\nFotoEventNijmegen is een samenwerking van Fotoclub Nijmegen\, Fotobond Afdeling Gelderland Zuid en Fotobolwerk. FotoEventNijmegen heeft tot doel meer fotografie naar de stad te brengen. Dit komt tot uiting in Fotografencafé’s \, interviews met fotografen en een fotoproject met en over de stad. Onze doelgroep zijn (vrijetijds)fotografen en liefhebbers van fotografie. Gemeente Nijmegen ondersteunt deze samenwerking met een financiële bijdrage. \nTijd\n 16 november 2024; 12.00 – 16.30 uur\nWaar\nCultuurspinnerij De Vasim\, ingang Noord\, Winselingseweg 41\, 6541 AH Nijmegen\nToegang\nGratis\, met uitzondering van de lezingen. Kaarten voor de lezingen zijn online te bestellen tegen een kleine vergoeding.\nVoor persvragen en aanvullende informatie kunt u contact opnemen met:\nProjectleider: Willy Bomert (team@fotoeventnijmegen.nl; 06 17 04 85 16)\nWebsite: www.fotoeventnijmegen.nl Facebook en Instagram: @fotoeventnijmegen
URL:https://fotobondgelderlandzuid.nl/event/dag-van-het-fotoboek-nijmegen/
LOCATION:De Vasim\, Winselingseweg 41 (Ingang Noord)\, NIJMEGEN
CATEGORIES:FotoEvent Nijmegen
ATTACH;FMTTYPE=image/jpeg:https://fotobondgelderlandzuid.nl/wp-content/uploads/2024/10/Beeldmerk-DagvhFotoboek-sm.jpg
END:VEVENT
BEGIN:VEVENT
DTSTART;TZID=Europe/Amsterdam:20241120T200000
DTEND;TZID=Europe/Amsterdam:20241120T223000
DTSTAMP:20260422T115717
CREATED:20241008T073809Z
LAST-MODIFIED:20241009T071449Z
UID:2625-1732132800-1732141800@fotobondgelderlandzuid.nl
SUMMARY:Afdelingslezing CORB!NO; LUNTEREN
DESCRIPTION:[Foto CORB!NO] \nLezing Corbino Bij Fotoclub Oog & Optiek in Lunteren\nDit schrijft hij op zijn website: \nCorbino. Dat betekent beelden\, beweging\, mensen\, een smaak\, een merk en een manier van leven. Geboren als Cornelis Maarten Corbijn van Willenswaard op 14 oktober 1959 als derde zoon van een dominee en een verpleegster\, heeft deze Nederlander zijn visie aangescherpt sinds het begin van de jaren tachtig. Begonnen als een simpele fotograaf\, is hij sindsdien uitgegroeid tot een multidisciplinair kunstenaar\, verantwoordelijk voor enkele van de meest iconische portretten en muziekvideo’s gemaakt in de Lage Landen. Zijn samenwerking met de zeer getalenteerde Georgios Rietveld heeft geresulteerd in een stroom van prachtige korte films\, voor een breed scala aan klanten. De spirituele oorsprong is nooit ver weg\, hij drukt zijn unieke smaak ook uit in woorden\, wat resulteert in een indrukwekkende hoeveelheid teksten in een steeds bewegende weergave van symbiose. Zijn “Corbino Bible” (2021) wordt beschouwd als een van de beste Nederlandse fotoboeken ooit gepubliceerd. \nHet werk van Corbino is tentoongesteld in galerieën en musea en is te vinden in verschillende collecties\, waaronder het Rijksmuseum Amsterdam en het Kunstmuseum Den Haag. \nZijn werk kun je hier vinden. \nopgeven?\nBelangstellenden kunnen zich tot en met 14 november opgeven bij secretaris@oogenoptiek.nl.\nHoud de website van Oog & Optiek in de gaten voor aanvullende informatie: https://oogenoptiek.nl/event/clubavond-6/\nwanneer?\nwoensdag 20 november; 20.00 uur\nwaar?\nBuurtcentrum De Schakel\nSchaepmanstraat 58\n6741 WV  LUNTEREN \n 
URL:https://fotobondgelderlandzuid.nl/event/lezing-corbno-lunteren/
LOCATION:Buurtcentrum De Schakel\, Schaepmanstraat 58\, 6741 WV LUNTEREN
CATEGORIES:Afdelingslezing
ATTACH;FMTTYPE=image/jpeg:https://fotobondgelderlandzuid.nl/wp-content/uploads/2015/12/Corbino1.jpg
END:VEVENT
END:VCALENDAR