BEGIN:VCALENDAR
VERSION:2.0
PRODID:-//Fotobond Gelderland Zuid - ECPv6.15.20//NONSGML v1.0//EN
CALSCALE:GREGORIAN
METHOD:PUBLISH
X-ORIGINAL-URL:https://fotobondgelderlandzuid.nl
X-WR-CALDESC:Evenementen voor Fotobond Gelderland Zuid
REFRESH-INTERVAL;VALUE=DURATION:PT1H
X-Robots-Tag:noindex
X-PUBLISHED-TTL:PT1H
BEGIN:VTIMEZONE
TZID:Europe/Amsterdam
BEGIN:DAYLIGHT
TZOFFSETFROM:+0100
TZOFFSETTO:+0200
TZNAME:CEST
DTSTART:20230326T010000
END:DAYLIGHT
BEGIN:STANDARD
TZOFFSETFROM:+0200
TZOFFSETTO:+0100
TZNAME:CET
DTSTART:20231029T010000
END:STANDARD
BEGIN:DAYLIGHT
TZOFFSETFROM:+0100
TZOFFSETTO:+0200
TZNAME:CEST
DTSTART:20240331T010000
END:DAYLIGHT
BEGIN:STANDARD
TZOFFSETFROM:+0200
TZOFFSETTO:+0100
TZNAME:CET
DTSTART:20241027T010000
END:STANDARD
BEGIN:DAYLIGHT
TZOFFSETFROM:+0100
TZOFFSETTO:+0200
TZNAME:CEST
DTSTART:20250330T010000
END:DAYLIGHT
BEGIN:STANDARD
TZOFFSETFROM:+0200
TZOFFSETTO:+0100
TZNAME:CET
DTSTART:20251026T010000
END:STANDARD
END:VTIMEZONE
BEGIN:VEVENT
DTSTART;TZID=Europe/Amsterdam:20240921T143000
DTEND;TZID=Europe/Amsterdam:20240921T163000
DTSTAMP:20260422T150119
CREATED:20240828T065326Z
LAST-MODIFIED:20240828T065608Z
UID:2607-1726929000-1726936200@fotobondgelderlandzuid.nl
SUMMARY:FotoEvent Nijmegen: Fotografencafé
DESCRIPTION:Het volgende FotografenCafé vindt plaats op zaterdagmiddag 21 september 2024\n14.30-16.30 uur\, inloop vanaf 14.15 uur \nLocatie: De VASIM\, Winselingseweg 41\, 6541 AH  NIJMEGEN\, ingang Noord\, 1ste etage\nGratis toegang\, bij voorkeur aanmelden op Eventbrite ‘FotografenCafé Nijmegen‘ \nThema: Over de aantrekkingskracht van analoge fotografie \n\nDemo negatieven scannen\nIn gesprek met gastfotograaf Chuck Baker\nPop-up expositie met analoge foto’s van cafézoekers\n\nHet zal je niet ontgaan zijn dat analoge fotografie weer volop in de belangstelling staat.\nWat is toch de aantrekkingskracht van deze wijze van fotograferen\, van het maken van de opname tot en met de nabewerking en het eindresultaat. \nVoorafgaand aan het hoofdprogramma is er een demonstratie van een eenvoudige manier om zelf negatieven te scannen. Zo je wilt kun je hiervoor zelf negatieven (uit de oude doos) meebrengen. \nDan gaan wij in gesprek met Chuck Baker. Chuck is Amerikaan\, fotograaf en woont in Nijmegen. Hij zal ons recent werk laten zien\, vertellen over zijn fascinatie voor de analoge fotografie en de wijze waarop hij te werk gaat. \nNa het gesprek met Chuck maken we de overstap naar geprinte foto’s van de cafébezoekers. Fotografeer jij analoog? Laat ons meegenieten en breng een paar prints mee voor de pop-up expositie.  Hang jouw de prints\, net als in de doka\, met een klein knijpertje aan de waslijn. Wij zorgen voor de lijn en knijpertjes. Beperk de grootte van de print tot maximaal A4-formaat. \nKortom\, volop gespreksstof en gelegenheid om kennis te maken met analoge fotografie en analoge fotografen uit de regio. \nAanmelden\nWij stellen het op prijs als je ons laat weten dat je komt. Dan kunnen wij onze voorbereidingen daar op afstemmen. Ga naar Eventbrite ‘FotografenCafé Nijmegen‘ \nInformatie over Chuck Baker\nwww.chuckbakerphotography.com \nYoutube: The Brownie Camera Guy: Analoge fotografie met Chuck Baker \n 
URL:https://fotobondgelderlandzuid.nl/event/fotoevent-nijmegen/
LOCATION:De Vasim\, Winselingseweg 41 (Ingang Noord)\, NIJMEGEN
CATEGORIES:Fotografencafé
ATTACH;FMTTYPE=image/jpeg:https://fotobondgelderlandzuid.nl/wp-content/uploads/2024/02/FotoEventNijmegen-logo.jpg
END:VEVENT
BEGIN:VEVENT
DTSTART;VALUE=DATE:20240928
DTEND;VALUE=DATE:20241001
DTSTAMP:20260422T150119
CREATED:20240819T064959Z
LAST-MODIFIED:20240819T070503Z
UID:2600-1727485200-1727657999@fotobondgelderlandzuid.nl
SUMMARY:Madelief
DESCRIPTION:Houd je van natuurfoto’s en mooie natuurfilms? \nEn ben je nieuwsgierig naar de AV producties\, mis het dan niet. \nKom 28 en 29 september naar Spectrum Schijndel voor het eerste Madelief Festival \nIn meerdere zalen worden prachtige natuurfilms en AV producties getoond\, de hele dag door. Zowel op zaterdag als op de zondag. Nieuw zijn de 1 minuten films!\nIn de hal staat de expositie met de 50 geselecteerde foto’s. De uitslag van de winnende foto’s en films wordt daar bekend gemaakt. De overige foto’s draaien de hele dag in een loop op schermen mee.\nVroege Vogels draait een mooie selectie “Zelf Geschoten“ filmpjes. Er zijn medewerkers van Vroege Vogels aanwezig.\nEr zijn bekende sprekers over natuurfotografie\, zoals o.a. Jan Vermeer en Bas Meelker. \nTot slot:  er zijn mooie prijzen te winnen!\nZorg dat je erbij bent! \nKijk op de website!
URL:https://fotobondgelderlandzuid.nl/event/madelief/
LOCATION:Spectrum Schijndel\, Steeg 9\, SCHIJNDEL
CATEGORIES:Foto-event
ATTACH;FMTTYPE=image/jpeg:https://fotobondgelderlandzuid.nl/wp-content/uploads/2024/08/Madelief-logo-2024.jpg
END:VEVENT
END:VCALENDAR