BEGIN:VCALENDAR
VERSION:2.0
PRODID:-//Fotobond Gelderland Zuid - ECPv6.15.20//NONSGML v1.0//EN
CALSCALE:GREGORIAN
METHOD:PUBLISH
X-WR-CALNAME:Fotobond Gelderland Zuid
X-ORIGINAL-URL:https://fotobondgelderlandzuid.nl
X-WR-CALDESC:Evenementen voor Fotobond Gelderland Zuid
REFRESH-INTERVAL;VALUE=DURATION:PT1H
X-Robots-Tag:noindex
X-PUBLISHED-TTL:PT1H
BEGIN:VTIMEZONE
TZID:Europe/Amsterdam
BEGIN:DAYLIGHT
TZOFFSETFROM:+0100
TZOFFSETTO:+0200
TZNAME:CEST
DTSTART:20230326T010000
END:DAYLIGHT
BEGIN:STANDARD
TZOFFSETFROM:+0200
TZOFFSETTO:+0100
TZNAME:CET
DTSTART:20231029T010000
END:STANDARD
BEGIN:DAYLIGHT
TZOFFSETFROM:+0100
TZOFFSETTO:+0200
TZNAME:CEST
DTSTART:20240331T010000
END:DAYLIGHT
BEGIN:STANDARD
TZOFFSETFROM:+0200
TZOFFSETTO:+0100
TZNAME:CET
DTSTART:20241027T010000
END:STANDARD
BEGIN:DAYLIGHT
TZOFFSETFROM:+0100
TZOFFSETTO:+0200
TZNAME:CEST
DTSTART:20250330T010000
END:DAYLIGHT
BEGIN:STANDARD
TZOFFSETFROM:+0200
TZOFFSETTO:+0100
TZNAME:CET
DTSTART:20251026T010000
END:STANDARD
END:VTIMEZONE
BEGIN:VEVENT
DTSTART;TZID=Europe/Amsterdam:20240622T140000
DTEND;TZID=Europe/Amsterdam:20240622T170000
DTSTAMP:20260422T193255
CREATED:20230517T073341Z
LAST-MODIFIED:20240514T054529Z
UID:2323-1719064800-1719075600@fotobondgelderlandzuid.nl
SUMMARY:Presentatie RDFDruten
DESCRIPTION:Contrast Fotoclub uit Druten\, Organisator van de Regionale Digitale Fotowedstrijd 2024\, nodigt u uit voor de presentatie van de Regionale Digitale Fotowedstrijd.\nWij zullen ons inzetten om uw foto’s daar optimaal te projecteren\, zodat ze zoveel mogelijk recht gedaan worden. De juryleden zijn de Fotobondmentoren Theo Bijker en Jan Nabuurs. \ntijd\nzaterdagmiddag 22 juni  2024\n14.00 uur (inloop is vanaf 13.00 uur\, de presentatie start stipt om 14.00 uur!)\nlocatie\nBogerd\nVan Heemstraweg 53\n6651 KH  DRUTEN \n 
URL:https://fotobondgelderlandzuid.nl/event/presentatie-regionale-digitale-fotowedstrijd/
LOCATION:Bogerd\, Van Heemstraweg 53\, DRUTEN\, 6651 KH\, Nederland
CATEGORIES:Bondsfotowedstrijd,Wedstrijd
ATTACH;FMTTYPE=image/jpeg:https://fotobondgelderlandzuid.nl/wp-content/uploads/2018/12/2019-Affiche-02-RDF-2019.jpg
END:VEVENT
BEGIN:VEVENT
DTSTART;TZID=Europe/Amsterdam:20240622T141500
DTEND;TZID=Europe/Amsterdam:20240622T170000
DTSTAMP:20260422T193255
CREATED:20240618T091832Z
LAST-MODIFIED:20240618T092528Z
UID:2569-1719065700-1719075600@fotobondgelderlandzuid.nl
SUMMARY:FotografenCafé Nijmegen
DESCRIPTION:FotografenCafé Nijmegen\nthema: ‘door de ogen van …’\nInloop vanaf 14:15 uur\, toegang gratis\nLocatie: De Vasim\, Winselingseweg 41 (ingang noord)\, 1ste etage \nMeer info én aanmelden op de site van de Fotbond
URL:https://fotobondgelderlandzuid.nl/event/fotografencafe-nijmegen-2/
LOCATION:De Vasim\, Winselingseweg 41 (Ingang Noord)\, NIJMEGEN
CATEGORIES:Fotografencafé
ATTACH;FMTTYPE=image/jpeg:https://fotobondgelderlandzuid.nl/wp-content/uploads/2024/06/Affiche-FOTOGRAFENCAFE-v3-STORY-fcn.jpg
END:VEVENT
END:VCALENDAR