BEGIN:VCALENDAR
VERSION:2.0
PRODID:-//Fotobond Gelderland Zuid - ECPv6.15.20//NONSGML v1.0//EN
CALSCALE:GREGORIAN
METHOD:PUBLISH
X-ORIGINAL-URL:https://fotobondgelderlandzuid.nl
X-WR-CALDESC:Evenementen voor Fotobond Gelderland Zuid
REFRESH-INTERVAL;VALUE=DURATION:PT1H
X-Robots-Tag:noindex
X-PUBLISHED-TTL:PT1H
BEGIN:VTIMEZONE
TZID:Europe/Amsterdam
BEGIN:DAYLIGHT
TZOFFSETFROM:+0100
TZOFFSETTO:+0200
TZNAME:CEST
DTSTART:20230326T010000
END:DAYLIGHT
BEGIN:STANDARD
TZOFFSETFROM:+0200
TZOFFSETTO:+0100
TZNAME:CET
DTSTART:20231029T010000
END:STANDARD
BEGIN:DAYLIGHT
TZOFFSETFROM:+0100
TZOFFSETTO:+0200
TZNAME:CEST
DTSTART:20240331T010000
END:DAYLIGHT
BEGIN:STANDARD
TZOFFSETFROM:+0200
TZOFFSETTO:+0100
TZNAME:CET
DTSTART:20241027T010000
END:STANDARD
BEGIN:DAYLIGHT
TZOFFSETFROM:+0100
TZOFFSETTO:+0200
TZNAME:CEST
DTSTART:20250330T010000
END:DAYLIGHT
BEGIN:STANDARD
TZOFFSETFROM:+0200
TZOFFSETTO:+0100
TZNAME:CET
DTSTART:20251026T010000
END:STANDARD
END:VTIMEZONE
BEGIN:VEVENT
DTSTART;VALUE=DATE:20240215
DTEND;VALUE=DATE:20240413
DTSTAMP:20260422T235900
CREATED:20240215T120002Z
LAST-MODIFIED:20240313T193257Z
UID:2508-1707958800-1712883599@fotobondgelderlandzuid.nl
SUMMARY:I’m thinking - Ton van Vroonhoven exposeertAALTEN
DESCRIPTION:I’m thinking – Een foto-expositie van Ton van Vroonhoven bij Oerkroeg Schiller in Aalten\nt/m 11 april 2024 \n  \nWat de fotograaf er zelf over zegt: \nBij het zien van de film “I’m thinking of ending things” werd ik geïnspireerd door de ondertiteling. Kernachtige tekstfragmenten kwamen voorbij die een openingszin leken voor een spannend verhaal. Een katalysator ook om een denkproces in gang te zetten. \nHet zijn teksten die regisseur en scenarioschrijver Charlie Kaufman schreef toen hij het gelijknamige boek van Iain Reid bewerkte. Zijn film is heel sterk op sfeer gemaakt. Hij schuurt tegen begrippen aan als melancholie\, surrealisme\, eenzaamheid\, zoeken\, ongemak\, gelatenheid en verwachtingen. \nIk besloot de meest indringende zinnen te combineren met beelden die ik in het midden van Duitsland zou gaan maken. In de deelstaten Nedersaksen\, Saksen-Anhalt en Saksen zocht ik eenvoudige\, verstilde beelden die zich goed met de teksten laten combineren. De combinaties leveren een nieuwe realiteit op waarin soms het beeld en soms de tekst domineert. \nIn het FotoKabinet in Oerkroeg Schiller is van 9 februari tot en met 11 april 2024 een grotere serie te zien waardoor de melancholie versterkt wordt. \nFotoKabinet is een initiatief van Oerkroeg Schiller samen met het OFC. De groep die ervaring heeft met het exposeren in een museale omgeving ziet het als een uitdaging om binnen de sfeer van een kroeg mooie exposities te realiseren. Het OFC bestaat uit fotografen en kunstenaars die al dan niet beroepsmatig werkzaam zijn. Ieder lid heeft zijn of haar eigen specialisatie en werkt vanuit eigen interesse.\nDe leden zijn: Bettina Hogeweg\, Gerjo te Linde\, Laura de Morree\, Wim Peters\, Marjan Rosendahl\, Judith Spook\, Peter van Tuijl\, Ton van Vroonhoven\, Gert Wielink en Dinie Wikkerink. \nwaar?\nFotoKabinet\nOerkroeg Schiller\nPrinsenstraat 4\n7121 AG  AALTEN \nwanneer?\nt/m 11 april 2024\ndinsdag en woensdag 19.00 tot 01.00 uur\ndonderdag 16.00 tot 01.00 uur\nvrijdag 14.00 tot 02.00 uur\nzaterdag 14.00 tot 02.00 uur\nzondag 14.00 tot 01.00 uur
URL:https://fotobondgelderlandzuid.nl/event/im-thinking-ton-van-vroonhoven-exposeert-aalten/
LOCATION:FotoKabinet Oerkroeg Schiller\, Prinsenstraat 4\, AALTEN\, 7121 AG
CATEGORIES:Clubexpositie
ATTACH;FMTTYPE=image/jpeg:https://fotobondgelderlandzuid.nl/wp-content/uploads/2024/02/FotoKabinet_-Ton-van-Vroonhoven_Im-thinking-scaled.jpg
END:VEVENT
BEGIN:VEVENT
DTSTART;VALUE=DATE:20240401
DTEND;VALUE=DATE:20240403
DTSTAMP:20260422T235900
CREATED:20240131T083915Z
LAST-MODIFIED:20240131T083915Z
UID:2484-1711933200-1712019599@fotobondgelderlandzuid.nl
SUMMARY:Sluiting inzending geprinte foto's Bondsfotowedstrijd
DESCRIPTION:Van donderdag 15 maart tot maandag 1 april kunnen de dozen met geprintte foto’s ingestuurd worden.
URL:https://fotobondgelderlandzuid.nl/event/dag-van-de-fotografie-19-augustus-2-2/
CATEGORIES:Wedstrijd
ATTACH;FMTTYPE=image/jpeg:https://fotobondgelderlandzuid.nl/wp-content/uploads/2023/08/Foto-Monique-Hoogendijk-Beste-foto-BFW-2023-scaled.jpg
END:VEVENT
BEGIN:VEVENT
DTSTART;TZID=Europe/Amsterdam:20240411T200000
DTEND;TZID=Europe/Amsterdam:20240411T223000
DTSTAMP:20260422T235900
CREATED:20240313T190613Z
LAST-MODIFIED:20240324T100624Z
UID:2541-1712865600-1712874600@fotobondgelderlandzuid.nl
SUMMARY:Lezing Jan Nabuurs bij 'De Oude IJssel'DOETINCHEM
DESCRIPTION:[Foto: Jan Nabuurs] \nLezing Jan Nabuurs\nJan is onder meer lid van de Landelijke Groep Documentaire Fotografie van de Koninklijke Fotobond en Fotobondmentor\nJan zal een aantal individuele foto’s laten zien en daarna vooral aandacht besteden aan seriematig werken: wat doen foto’s met elkaar\, welke soorten series zijn er\, en wat zijn hun kenmerken. Vervolgens krijgt het maken van documentaire fotoseries\, en hoe daar mee zelf aan de slag te gaan\, ook uitgebreid aandacht. Hij zal veel eigen werk laten zien. \nwanneer?\ndonderdag 11 april  2024\, 20.00 uur \nwaar?\nFotoclub ‘De Oude IJssel’\nSportcentrum De Bongerd\nDe Bongerd 81\nDOETINCHEM \ntoegang?\nGratis voor leden van ‘De Oude IJssel’\, niet-leden betalen € 5\,00.\nGraag vooraf aanmelden bij Marjan Rosendahl: marjan.rosendahl@hotmail.com.
URL:https://fotobondgelderlandzuid.nl/event/lezing-jan-nabuurs-bij-de-oude-ijsseldoetinchem/
LOCATION:De Bongerd\, De Bongerd 81\, 7006 NH DOETINCHEM
CATEGORIES:Lezing
ATTACH;FMTTYPE=image/jpeg:https://fotobondgelderlandzuid.nl/wp-content/uploads/2024/03/1708001-Jan-Nabuurs-Hoopvol.jpg
END:VEVENT
BEGIN:VEVENT
DTSTART;TZID=Europe/Amsterdam:20240414T110000
DTEND;TZID=Europe/Amsterdam:20240414T150000
DTSTAMP:20260422T235900
CREATED:20240304T204107Z
LAST-MODIFIED:20240325T213126Z
UID:2520-1713092400-1713106800@fotobondgelderlandzuid.nl
SUMMARY:Fotografencafé Nijmegen
DESCRIPTION:Op 14 april is de NYMA Experience\, de open dag van de NYMA en de VASIM. Deze industriële omgeving vormt een culturele en creatieve hotspot in Nijmegen. Te midden daarvan organiseert FotoEventNijmegen haar eerste Fotografencafé. De locatie alleen al is de moeite waard. Organisatie is in handen van Fotoclub Nijmegen & Fotobolwerk met financiële bijdragen van gemeente Nijmegen en Fotobond afdeling Gelderland Zuid. \nIn het fotografencafé is een expositie van iPhone fotografie door Joyce Panhuis-Maas. Joyce is lid van de werkgroepen BMK en Creatief van de Fotobond. Op de stamtafel liggen haar boeken en hier kun je ook met haar in gesprek over haar werk en werkwijze. \nEr is ook een kleine pop-up studio waar je met je eigen smartphone een mooi (zelf)portret kunt maken. Maar niet voordat je deze studio naar eigen wens hebt ingericht. FotoEventNijmegen zorgt voor ‘spullenboel’. \nTussen 13.00 en 16.00 uur is Colette Lukassen in de studio aanwezig. Zij geeft je tips voor Portretfotografie. Colette Lukassen is lid van de werkgroepen BMK en Portret en een prijswinnende documentair portretfotografe. \nHet fotografencafé is er ook gewoon voor ontmoeten en verbinden van fotografen\, voor jou! Er volgen er meer in 2024 en 2025. \nDatum: zondag 14 april\nTijd: 11.00 – 17.00 uur\nLocatie: De Vasim\, Winselingseweg 41\, 6541 AH Nijmegen\nSocials: FotoEventNijmegen Facebook en Instagram \n 
URL:https://fotobondgelderlandzuid.nl/event/fotografencafe-nijmegen/
LOCATION:NYMA\, Winselingseweg\, NIJMEGEN
CATEGORIES:Fotografencafé
ATTACH;FMTTYPE=image/jpeg:https://fotobondgelderlandzuid.nl/wp-content/uploads/2024/02/FotoEventNijmegen-logo.jpg
END:VEVENT
END:VCALENDAR