BEGIN:VCALENDAR
VERSION:2.0
PRODID:-//Fotobond Gelderland Zuid - ECPv6.15.20//NONSGML v1.0//EN
CALSCALE:GREGORIAN
METHOD:PUBLISH
X-ORIGINAL-URL:https://fotobondgelderlandzuid.nl
X-WR-CALDESC:Evenementen voor Fotobond Gelderland Zuid
REFRESH-INTERVAL;VALUE=DURATION:PT1H
X-Robots-Tag:noindex
X-PUBLISHED-TTL:PT1H
BEGIN:VTIMEZONE
TZID:Europe/Amsterdam
BEGIN:DAYLIGHT
TZOFFSETFROM:+0100
TZOFFSETTO:+0200
TZNAME:CEST
DTSTART:20230326T010000
END:DAYLIGHT
BEGIN:STANDARD
TZOFFSETFROM:+0200
TZOFFSETTO:+0100
TZNAME:CET
DTSTART:20231029T010000
END:STANDARD
BEGIN:DAYLIGHT
TZOFFSETFROM:+0100
TZOFFSETTO:+0200
TZNAME:CEST
DTSTART:20240331T010000
END:DAYLIGHT
BEGIN:STANDARD
TZOFFSETFROM:+0200
TZOFFSETTO:+0100
TZNAME:CET
DTSTART:20241027T010000
END:STANDARD
BEGIN:DAYLIGHT
TZOFFSETFROM:+0100
TZOFFSETTO:+0200
TZNAME:CEST
DTSTART:20250330T010000
END:DAYLIGHT
BEGIN:STANDARD
TZOFFSETFROM:+0200
TZOFFSETTO:+0100
TZNAME:CET
DTSTART:20251026T010000
END:STANDARD
END:VTIMEZONE
BEGIN:VEVENT
DTSTART;VALUE=DATE:20240215
DTEND;VALUE=DATE:20240413
DTSTAMP:20260422T235857
CREATED:20240215T120002Z
LAST-MODIFIED:20240313T193257Z
UID:2508-1707958800-1712883599@fotobondgelderlandzuid.nl
SUMMARY:I’m thinking - Ton van Vroonhoven exposeertAALTEN
DESCRIPTION:I’m thinking – Een foto-expositie van Ton van Vroonhoven bij Oerkroeg Schiller in Aalten\nt/m 11 april 2024 \n  \nWat de fotograaf er zelf over zegt: \nBij het zien van de film “I’m thinking of ending things” werd ik geïnspireerd door de ondertiteling. Kernachtige tekstfragmenten kwamen voorbij die een openingszin leken voor een spannend verhaal. Een katalysator ook om een denkproces in gang te zetten. \nHet zijn teksten die regisseur en scenarioschrijver Charlie Kaufman schreef toen hij het gelijknamige boek van Iain Reid bewerkte. Zijn film is heel sterk op sfeer gemaakt. Hij schuurt tegen begrippen aan als melancholie\, surrealisme\, eenzaamheid\, zoeken\, ongemak\, gelatenheid en verwachtingen. \nIk besloot de meest indringende zinnen te combineren met beelden die ik in het midden van Duitsland zou gaan maken. In de deelstaten Nedersaksen\, Saksen-Anhalt en Saksen zocht ik eenvoudige\, verstilde beelden die zich goed met de teksten laten combineren. De combinaties leveren een nieuwe realiteit op waarin soms het beeld en soms de tekst domineert. \nIn het FotoKabinet in Oerkroeg Schiller is van 9 februari tot en met 11 april 2024 een grotere serie te zien waardoor de melancholie versterkt wordt. \nFotoKabinet is een initiatief van Oerkroeg Schiller samen met het OFC. De groep die ervaring heeft met het exposeren in een museale omgeving ziet het als een uitdaging om binnen de sfeer van een kroeg mooie exposities te realiseren. Het OFC bestaat uit fotografen en kunstenaars die al dan niet beroepsmatig werkzaam zijn. Ieder lid heeft zijn of haar eigen specialisatie en werkt vanuit eigen interesse.\nDe leden zijn: Bettina Hogeweg\, Gerjo te Linde\, Laura de Morree\, Wim Peters\, Marjan Rosendahl\, Judith Spook\, Peter van Tuijl\, Ton van Vroonhoven\, Gert Wielink en Dinie Wikkerink. \nwaar?\nFotoKabinet\nOerkroeg Schiller\nPrinsenstraat 4\n7121 AG  AALTEN \nwanneer?\nt/m 11 april 2024\ndinsdag en woensdag 19.00 tot 01.00 uur\ndonderdag 16.00 tot 01.00 uur\nvrijdag 14.00 tot 02.00 uur\nzaterdag 14.00 tot 02.00 uur\nzondag 14.00 tot 01.00 uur
URL:https://fotobondgelderlandzuid.nl/event/im-thinking-ton-van-vroonhoven-exposeert-aalten/
LOCATION:FotoKabinet Oerkroeg Schiller\, Prinsenstraat 4\, AALTEN\, 7121 AG
CATEGORIES:Clubexpositie
ATTACH;FMTTYPE=image/jpeg:https://fotobondgelderlandzuid.nl/wp-content/uploads/2024/02/FotoKabinet_-Ton-van-Vroonhoven_Im-thinking-scaled.jpg
END:VEVENT
BEGIN:VEVENT
DTSTART;VALUE=DATE:20240315
DTEND;VALUE=DATE:20240317
DTSTAMP:20260422T235857
CREATED:20230818T072855Z
LAST-MODIFIED:20240131T084824Z
UID:2407-1710464400-1710550799@fotobondgelderlandzuid.nl
SUMMARY:Sluiting aanmelding/inzending digitale foto's Bondsfotowedstrijd
DESCRIPTION:[Foto: Monique Hoogendijk\, beste foto BFW 2023] \nInzending Bondsfotowedstrijd​​​​\nDe Bondsfotowedstrijd is een jaarlijkse wedstrijd\, uitsluitend bedoeld voor fotoclubs aangesloten bij de Fotobond. In 2024 is de openbare bespreking 26 mei in theater de Schalm te Veldhoven. Op 1 februari start de inzendperiode voor de digitale beelden. Insturen kan tot 15 maart. Van 15 maart tot 1 april kunnen de dozen met geprinte foto’s worden ingestuurd. Klik hier voor meer informatie\, het inschrijfformulier en het reglement.
URL:https://fotobondgelderlandzuid.nl/event/dag-van-de-fotografie-19-augustus/
CATEGORIES:Wedstrijd
ATTACH;FMTTYPE=image/jpeg:https://fotobondgelderlandzuid.nl/wp-content/uploads/2023/08/Foto-Monique-Hoogendijk-Beste-foto-BFW-2023-scaled.jpg
END:VEVENT
BEGIN:VEVENT
DTSTART;TZID=Europe/Amsterdam:20240324T143000
DTEND;TZID=Europe/Amsterdam:20240324T160000
DTSTAMP:20260422T235857
CREATED:20240210T151301Z
LAST-MODIFIED:20240210T153945Z
UID:2496-1711290600-1711296000@fotobondgelderlandzuid.nl
SUMMARY:Photo31 56 eeditie
DESCRIPTION:10 jaar in het vak\, de route naar succes\nDrie fotografen over hard werken\, doorzettingsvermogen en succes\nIn samenwerking met FotoEvent Nijmegen brengt Photo31 een live interview met drie zeer talentvolle fotografen. Nynke Brandsma\, Nele Van Canneyt en Julie Hrudová hebben het eerste decennium van hun fotografische loopbaan glansrijk doorlopen. Ze maken succesvol werk waarmee ze regelmatig exposeren en publiceren. Daarnaast werken twee van hen in opdracht. Hoe komen zij tot persoonlijk werk met een eigen signatuur en wat drukt hun werk uit? Hoe regelen ze opdrachten en hoe zorgen ze ervoor dat ze in de galeries en museale wereld op de kaart staan? Dat vertellen zij tijdens deze live editie van Photo31 op 24 maart in het Nijmeegse Brebl Theater. \nNynke Brandsma (1986\, nu woonachtig in Amsterdam) studeerde aan de Hogeschool voor Toegepaste Fotografie en de Fotoacademie in Amsterdam. Ze maakt deel uit van de &C Talent Academy en het collectief The Movement. In haar werk houdt ze zich bezig met percepties van het thema identiteit en ze vraagt zich af hoe mensen kunnen worden aangemoedigd om minder te oordelen. Met zowel documentair als autonoom werk verkent ze haar eigen leven en dat van onderwerpen die haar aandacht trekken. \nNele Van Canneyt is een beeldend kunstenaar die haar droomwereld projecteert op de realiteit. Vaak zijn het steden en urbane omgevingen die haar intrigeren. Nele Van Canneyt gaat op zoek naar verstilling\, het ondoordringbare\, het onuitgesprokene\, waarbij het toeval en de werkelijkheid van dat ene moment vaak een rol spelen. Ze vindt deze belevingswereld zowel overdag als ’s nachts. De beelden zijn niet geënsceneerd. Sinds de lockdown in 2020 ontdekte ze steeds vaker haar eigen omgeving en haar eigen land\, wat tot uiting komt in haar reeks ‘Inner land’. Ze combineert regelmatig verschillende locaties en momenten in haar series. Zo ontstaan er nieuwe\, betekenisvolle verbanden tussen beelden. \nJulie Hrudová groeide op in Praag\, maar woont en werkt tegenwoordig in Amsterdam. Ze werkt voornamelijk op straat\, waarbij ze de vreemde en surreële werkelijkheid probeert te vangen. Haar werk is verschenen in talloze publicaties en is in binnen- en buitenland tentoongesteld. In 2022 kwam haar eerste boek uit: ‘Chasing Amsterdam’\, dat als een van de beste fotoboeken van het jaar werd verkozen. Hrudová werkt ook als beeldredacteur voor RTL Nieuws. \nwanneer?\nzondag 24 maart 2024; 14.30 – 16.00 uur (inloop vanaf 14.00 uur)\nwaar?\nBrebl Theater\, (oude Honig-fabriek) \nWaalbanddijk 14D\nNijmegen\ntickets?\n€ 10\,00 online hier verkrijgbaar \n\nFotoEvent Nijmegen\n\nFotoEvent Nijmegen brengt fotografie naar de stad. Onder dit motto worden diverse activiteiten georganiseerd in 2024 en 2025:\n•  Photo31 live events in het theater\n•  Fotografencafé (meerdere keren per jaar)\n•  Fotoproject Nijmegen\nFotoEvent Nijmegen is een initiatief van Fotoclub Nijmegen en een samenwerking met Photo31\, Fotobolwerk en Fotobond Gelderland Zuid. Het project krijgt financiële ondersteuning van gemeente Nijmegen.\nZie ook Facebook en Instagram voor actueel nieuws.
URL:https://fotobondgelderlandzuid.nl/event/photo31-56ste-editie/
CATEGORIES:Lezing,Over fotografie,Presentatie
ATTACH;FMTTYPE=image/jpeg:https://fotobondgelderlandzuid.nl/wp-content/uploads/2024/02/Photo-31-tien-jaar-in-het-vak.jpg
END:VEVENT
END:VCALENDAR