BEGIN:VCALENDAR
VERSION:2.0
PRODID:-//Fotobond Gelderland Zuid - ECPv6.15.20//NONSGML v1.0//EN
CALSCALE:GREGORIAN
METHOD:PUBLISH
X-WR-CALNAME:Fotobond Gelderland Zuid
X-ORIGINAL-URL:https://fotobondgelderlandzuid.nl
X-WR-CALDESC:Evenementen voor Fotobond Gelderland Zuid
REFRESH-INTERVAL;VALUE=DURATION:PT1H
X-Robots-Tag:noindex
X-PUBLISHED-TTL:PT1H
BEGIN:VTIMEZONE
TZID:Europe/Amsterdam
BEGIN:DAYLIGHT
TZOFFSETFROM:+0100
TZOFFSETTO:+0200
TZNAME:CEST
DTSTART:20220327T010000
END:DAYLIGHT
BEGIN:STANDARD
TZOFFSETFROM:+0200
TZOFFSETTO:+0100
TZNAME:CET
DTSTART:20221030T010000
END:STANDARD
BEGIN:DAYLIGHT
TZOFFSETFROM:+0100
TZOFFSETTO:+0200
TZNAME:CEST
DTSTART:20230326T010000
END:DAYLIGHT
BEGIN:STANDARD
TZOFFSETFROM:+0200
TZOFFSETTO:+0100
TZNAME:CET
DTSTART:20231029T010000
END:STANDARD
BEGIN:DAYLIGHT
TZOFFSETFROM:+0100
TZOFFSETTO:+0200
TZNAME:CEST
DTSTART:20240331T010000
END:DAYLIGHT
BEGIN:STANDARD
TZOFFSETFROM:+0200
TZOFFSETTO:+0100
TZNAME:CET
DTSTART:20241027T010000
END:STANDARD
END:VTIMEZONE
BEGIN:VEVENT
DTSTART;VALUE=DATE:20231115
DTEND;VALUE=DATE:20231117
DTSTAMP:20260423T120737
CREATED:20230528T100941Z
LAST-MODIFIED:20230528T101000Z
UID:2379-1700010000-1700096399@fotobondgelderlandzuid.nl
SUMMARY:Sluiting inzending Foto Online (2e editie)
DESCRIPTION:Bekijk de wedstrijdagenda op de site van de Fotobond. \n 
URL:https://fotobondgelderlandzuid.nl/event/sluiting-inzending-foto-online-4/
LOCATION:Online
CATEGORIES:Wedstrijd
ATTACH;FMTTYPE=image/jpeg:https://fotobondgelderlandzuid.nl/wp-content/uploads/2023/05/fotobond-logo-koninklijke-fotobond-2023-alleen-oog.jpg
END:VEVENT
BEGIN:VEVENT
DTSTART;VALUE=DATE:20230930
DTEND;VALUE=DATE:20231002
DTSTAMP:20260423T120737
CREATED:20230528T100840Z
LAST-MODIFIED:20230528T100840Z
UID:2377-1696035600-1696121999@fotobondgelderlandzuid.nl
SUMMARY:Sluiting inzending Foto Nationaal (alleen op uitnodiging)
DESCRIPTION:Bekijk de wedstrijdagenda op de site van de Fotobond. \n 
URL:https://fotobondgelderlandzuid.nl/event/sluiting-inzending-foto-online-3/
LOCATION:Online
CATEGORIES:Wedstrijd
ATTACH;FMTTYPE=image/jpeg:https://fotobondgelderlandzuid.nl/wp-content/uploads/2023/05/fotobond-logo-koninklijke-fotobond-2023-alleen-oog.jpg
END:VEVENT
BEGIN:VEVENT
DTSTART;VALUE=DATE:20230915
DTEND;VALUE=DATE:20230917
DTSTAMP:20260423T120737
CREATED:20230528T100652Z
LAST-MODIFIED:20230528T100652Z
UID:2375-1694739600-1694825999@fotobondgelderlandzuid.nl
SUMMARY:Sluiting inzending Foto Individueel (2e editie)
DESCRIPTION:Bekijk de wedstrijdagenda op de site van de Fotobond. \n 
URL:https://fotobondgelderlandzuid.nl/event/sluiting-inzending-foto-online-2/
LOCATION:Online
CATEGORIES:Wedstrijd
ATTACH;FMTTYPE=image/jpeg:https://fotobondgelderlandzuid.nl/wp-content/uploads/2023/05/fotobond-logo-koninklijke-fotobond-2023-alleen-oog.jpg
END:VEVENT
END:VCALENDAR