BEGIN:VCALENDAR
VERSION:2.0
PRODID:-//Fotobond Gelderland Zuid - ECPv6.15.20//NONSGML v1.0//EN
CALSCALE:GREGORIAN
METHOD:PUBLISH
X-ORIGINAL-URL:https://fotobondgelderlandzuid.nl
X-WR-CALDESC:Evenementen voor Fotobond Gelderland Zuid
REFRESH-INTERVAL;VALUE=DURATION:PT1H
X-Robots-Tag:noindex
X-PUBLISHED-TTL:PT1H
BEGIN:VTIMEZONE
TZID:Europe/Amsterdam
BEGIN:DAYLIGHT
TZOFFSETFROM:+0100
TZOFFSETTO:+0200
TZNAME:CEST
DTSTART:20250330T010000
END:DAYLIGHT
BEGIN:STANDARD
TZOFFSETFROM:+0200
TZOFFSETTO:+0100
TZNAME:CET
DTSTART:20251026T010000
END:STANDARD
BEGIN:DAYLIGHT
TZOFFSETFROM:+0100
TZOFFSETTO:+0200
TZNAME:CEST
DTSTART:20260329T010000
END:DAYLIGHT
BEGIN:STANDARD
TZOFFSETFROM:+0200
TZOFFSETTO:+0100
TZNAME:CET
DTSTART:20261025T010000
END:STANDARD
BEGIN:DAYLIGHT
TZOFFSETFROM:+0100
TZOFFSETTO:+0200
TZNAME:CEST
DTSTART:20270328T010000
END:DAYLIGHT
BEGIN:STANDARD
TZOFFSETFROM:+0200
TZOFFSETTO:+0100
TZNAME:CET
DTSTART:20271031T010000
END:STANDARD
END:VTIMEZONE
BEGIN:VEVENT
DTSTART;VALUE=DATE:20260413
DTEND;VALUE=DATE:20260517
DTSTAMP:20260421T172405
CREATED:20260321T201342Z
LAST-MODIFIED:20260322T091042Z
UID:2941-1776042000-1778893199@fotobondgelderlandzuid.nl
SUMMARY:Expositie Marjan RosendahlZEVENAAR
DESCRIPTION:PERSOONLIJKE LANDSCHAPPEN\nbijwerkingen\, strijd en stille impact van Parkinson\nwat zie je… en wat blijft verborgen?\nOm aandacht te vragen voor de vele kanten van de ziekte van Parkinson laat fotografe Marjan Rosendahl in deze foto-expositie tweeluiken zien van zwart-witportretten naast kleurrijke landschappen. \nDe identieke kleding die deelnemers dragen verwijst naar het stereotiepe beeld dat vaak aan de ziekte kleeft: trillen. \nDe persoonlijke landschappen vertellen wat anders. Deze foto’s zijn voortgekomen uit gesprekken met deelnemers en staan symbool voor het symptoom dat voor hen de meeste impact heeft. \nSamen vormen de foto’s een uitnodiging: \n\nom langer te kijken\nom bewustwording te creëren\nom met andere ogen naar de ziekte van Parkinson te kijken\n\nwanneer?\ndinsdag 13 april t/m vrijdag 15 mei 2026\nmaandag gesloten!\ndinsdag t/m vrijdag 10.00 – 17.00 uur\nzaterdag en zondag 14.00 – 17.00 uur \nwaar?\nMultizaal in de Turmac Cultuurfabriek\nKerkstraat 27\n6901 AA  ZEVENAAR \nparkeren?\nGratis parkeren is mogelijk aan Stationsplein 4 te Zevenaar. Vanuit daar volg je de borden naar Turmac Cultuurfabriek. \ninfo?\nliemerskunstwerk.nl/museum/\nToegang is gratis.
URL:https://fotobondgelderlandzuid.nl/event/expositie-marjan-rosendahlzevenaar/
LOCATION:Turmac Cultuurfabriek\, Multizaal\, Kerkstraat 27\, ZEVENAAR
CATEGORIES:Clubexpositie
ATTACH;FMTTYPE=application/pdf:https://fotobondgelderlandzuid.nl/wp-content/uploads/2026/03/expositie-Marjan-Rosendahl.pdf
END:VEVENT
BEGIN:VEVENT
DTSTART;TZID=Europe/Amsterdam:20260425T110000
DTEND;TZID=Europe/Amsterdam:20260426T170000
DTSTAMP:20260421T172405
CREATED:20260324T085353Z
LAST-MODIFIED:20260324T085720Z
UID:2966-1777114800-1777222800@fotobondgelderlandzuid.nl
SUMMARY:Expositie Fotoclub Nijmegen
DESCRIPTION:Wind – Water – Lucht\nDrie natuurkrachten die dagelijks – soms subtiel\, soms overweldigend- aanwezig zijn en in fotografie een eigen vorm en zeggingskracht krijgen. \nDe club daagde de fotografen uit om in elke foto tenminste twee van de drie elementen te combineren. Dat leverde niet alleen beelden op waarin wolkenvelden boven een rimpelende zee hangen\, wind het water opjaagt of mist lucht en landschap laat samenvloeien\, maar juist ook verassende originele combinaties van de elementen. \nBeelden die je niet verwacht! \nwanneer?\n25 en 26 april 2026\n11.00-17.00 uur\nwaar?\nDe Vasim\nWinselingeweg 41\nNIJMEGEN\ninfo?\nGratis parkeren Latensteinweg\, Nijmegen\nwww.fotoclubnijmegen .nl
URL:https://fotobondgelderlandzuid.nl/event/expositie-fotoclub-nijmegen-2/
LOCATION:De Vasim\, Winselingseweg 41 (Ingang Noord)\, NIJMEGEN
CATEGORIES:Clubexpositie
ATTACH;FMTTYPE=image/jpeg:https://fotobondgelderlandzuid.nl/wp-content/uploads/2026/03/banner-16x6-1-scaled.jpg
END:VEVENT
END:VCALENDAR