BEGIN:VCALENDAR
VERSION:2.0
PRODID:-//Fotobond Gelderland Zuid - ECPv6.15.20//NONSGML v1.0//EN
CALSCALE:GREGORIAN
METHOD:PUBLISH
X-ORIGINAL-URL:https://fotobondgelderlandzuid.nl
X-WR-CALDESC:Evenementen voor Fotobond Gelderland Zuid
REFRESH-INTERVAL;VALUE=DURATION:PT1H
X-Robots-Tag:noindex
X-PUBLISHED-TTL:PT1H
BEGIN:VTIMEZONE
TZID:Europe/Amsterdam
BEGIN:DAYLIGHT
TZOFFSETFROM:+0100
TZOFFSETTO:+0200
TZNAME:CEST
DTSTART:20240331T010000
END:DAYLIGHT
BEGIN:STANDARD
TZOFFSETFROM:+0200
TZOFFSETTO:+0100
TZNAME:CET
DTSTART:20241027T010000
END:STANDARD
BEGIN:DAYLIGHT
TZOFFSETFROM:+0100
TZOFFSETTO:+0200
TZNAME:CEST
DTSTART:20250330T010000
END:DAYLIGHT
BEGIN:STANDARD
TZOFFSETFROM:+0200
TZOFFSETTO:+0100
TZNAME:CET
DTSTART:20251026T010000
END:STANDARD
BEGIN:DAYLIGHT
TZOFFSETFROM:+0100
TZOFFSETTO:+0200
TZNAME:CEST
DTSTART:20260329T010000
END:DAYLIGHT
BEGIN:STANDARD
TZOFFSETFROM:+0200
TZOFFSETTO:+0100
TZNAME:CET
DTSTART:20261025T010000
END:STANDARD
END:VTIMEZONE
BEGIN:VEVENT
DTSTART;TZID=Europe/Amsterdam:20250426T110000
DTEND;TZID=Europe/Amsterdam:20250427T170000
DTSTAMP:20260420T162432
CREATED:20250406T080014Z
LAST-MODIFIED:20250406T080114Z
UID:2747-1745665200-1745773200@fotobondgelderlandzuid.nl
SUMMARY:Expositie 'Religie in Beeld'PERSINGEN
DESCRIPTION:Foto-tentoonstelling door leden van Fotoclub Nijmegen\nLaat je verrassen door de diverse manieren waarop religie zich uitdrukt\, van eeuwenoude rituelen tot eigentijdse vormen van geloof. Deze bijzondere tentoonstelling toont de kracht van religie door de lens van de leden van Fotoclub Nijmegen. Een visuele reis die je meeneemt van devotie en bezinning naar moderne invloeden en verbondenheid. \nwanneer?\n26 en 27 april 2025\nvan 11.00-17.00 uur\nwaar?\nKerkje van Persingen\nPersingensestraat 7\n6757 JA  PERSINGEN\ntoegang?\ngratis.
URL:https://fotobondgelderlandzuid.nl/event/expositie-religie-in-beeldpersingen/
CATEGORIES:Clubexpositie
ATTACH;FMTTYPE=image/jpeg:https://fotobondgelderlandzuid.nl/wp-content/uploads/2025/04/Religie-in-Beeld-Persingen.jpeg
END:VEVENT
END:VCALENDAR