BEGIN:VCALENDAR
VERSION:2.0
PRODID:-//Fotobond Gelderland Zuid - ECPv6.15.20//NONSGML v1.0//EN
CALSCALE:GREGORIAN
METHOD:PUBLISH
X-WR-CALNAME:Fotobond Gelderland Zuid
X-ORIGINAL-URL:https://fotobondgelderlandzuid.nl
X-WR-CALDESC:Evenementen voor Fotobond Gelderland Zuid
REFRESH-INTERVAL;VALUE=DURATION:PT1H
X-Robots-Tag:noindex
X-PUBLISHED-TTL:PT1H
BEGIN:VTIMEZONE
TZID:Europe/Amsterdam
BEGIN:DAYLIGHT
TZOFFSETFROM:+0100
TZOFFSETTO:+0200
TZNAME:CEST
DTSTART:20240331T010000
END:DAYLIGHT
BEGIN:STANDARD
TZOFFSETFROM:+0200
TZOFFSETTO:+0100
TZNAME:CET
DTSTART:20241027T010000
END:STANDARD
BEGIN:DAYLIGHT
TZOFFSETFROM:+0100
TZOFFSETTO:+0200
TZNAME:CEST
DTSTART:20250330T010000
END:DAYLIGHT
BEGIN:STANDARD
TZOFFSETFROM:+0200
TZOFFSETTO:+0100
TZNAME:CET
DTSTART:20251026T010000
END:STANDARD
BEGIN:DAYLIGHT
TZOFFSETFROM:+0100
TZOFFSETTO:+0200
TZNAME:CEST
DTSTART:20260329T010000
END:DAYLIGHT
BEGIN:STANDARD
TZOFFSETFROM:+0200
TZOFFSETTO:+0100
TZNAME:CET
DTSTART:20261025T010000
END:STANDARD
END:VTIMEZONE
BEGIN:VEVENT
DTSTART;VALUE=DATE:20250301
DTEND;VALUE=DATE:20250417
DTSTAMP:20260420T145501
CREATED:20250212T194124Z
LAST-MODIFIED:20250321T080140Z
UID:2670-1740790800-1744765199@fotobondgelderlandzuid.nl
SUMMARY:Genrewedstrijd 2025 - inzenden t/m 15 april!
DESCRIPTION:[Foto: Erica de Haas]\nDoe mee met de Genrewedstrijd 2025\nvan Fotobond Afdeling Gelderland Zuid\nJe kunt insturen van 1 maart t/m 15 april 2025\nDe genres waarvoor je kunt insturen zijn:\nNatuur\, Portret\, Stad\, Conceptueel\, AI\nDe regels en procedure om deel te nemen kun je op deze pagina bekijken\nVragen? Stuur even een e-mail naar webmaster@fotobondgelderlandzuid.nl
URL:https://fotobondgelderlandzuid.nl/event/genrewedstrijd-2025/
CATEGORIES:Wedstrijd
ATTACH;FMTTYPE=image/jpeg:https://fotobondgelderlandzuid.nl/wp-content/uploads/2022/12/foto_code_33883_Erica-de-Haas.jpg
END:VEVENT
BEGIN:VEVENT
DTSTART;TZID=Europe/Amsterdam:20250404T080000
DTEND;TZID=Europe/Amsterdam:20250404T170000
DTSTAMP:20260420T145501
CREATED:20250404T070605Z
LAST-MODIFIED:20250404T071447Z
UID:2739-1743753600-1743786000@fotobondgelderlandzuid.nl
SUMMARY:Foto-expositie 'Vrijheid'ZUTPHEN
DESCRIPTION: Foto-expositie met als thema Vrijheid\n\nFotografencollectief de Zutphense exposeert van 9 april tot en met 5 juni in de Credokapel van de Walburgiskerk in Zutphen \nHet thema van de expositie is ‘Vrijheid’\, een thema dat door de fotografen van ‘de Zutphense’ vrij en breed is opgevat. De expositie omvat 22 geprinte foto’s en 25 foto’s die in een digitale presentatie draaien.\nWij vieren dit jaar de 80e bevrijdingsdag van Zutphen en dat werd de aanleiding voor deze expositie. \n‘Fotografencollectief de Zutphense’ is al meer dan honderd jaar een begrip in Zutphen en de wijde omgeving. Het is een groep van enthousiaste vrijetijdsfotografen die op hoog niveau hun liefhebberij bedrijven en zich met name richten op de creatieve\, inhoudelijke kant van hun fotowerk. Maar ook de technische ontwikkelingen in de fotografie worden niet verwaarloosd. \nDe Walburgiskerk is open van dinsdag tot en met zaterdag van 11.00 tot 17.00 uur. Het bezoek aan de kerk kost voor volwassenen 10 euro\, maar met museumkaart of vriendenkaarten is de expositie gratis te bezoeken. \nwanneer?\n10 april t/m 6 juni 2025\ndinsdag tot en met zaterdag van 11.00 tot 17.00 uur \nwaar?\nWalburgiskerk\n’s Gravenhof\, Zutphen\nLocatie Walburgiskerk Zutphen \ntoegang?\nHet bezoek aan de kerk kost voor volwassenen € 10\,00\, maar met museumkaart of vriendenkaarten is de expositie gratis te bezoeken.\n \ninfo?\nhttps://walburgiskerk.nl/ \n\n 
URL:https://fotobondgelderlandzuid.nl/event/foto-expositie-vrijheidzutphen/
CATEGORIES:Clubexpositie
ATTACH;FMTTYPE=image/jpeg:https://fotobondgelderlandzuid.nl/wp-content/uploads/2025/04/Affiche_Expo_Walburgiskerk_april_2025_A4-scaled.jpg
END:VEVENT
END:VCALENDAR