BEGIN:VCALENDAR
VERSION:2.0
PRODID:-//Fotobond Gelderland Zuid - ECPv6.15.20//NONSGML v1.0//EN
CALSCALE:GREGORIAN
METHOD:PUBLISH
X-WR-CALNAME:Fotobond Gelderland Zuid
X-ORIGINAL-URL:https://fotobondgelderlandzuid.nl
X-WR-CALDESC:Evenementen voor Fotobond Gelderland Zuid
REFRESH-INTERVAL;VALUE=DURATION:PT1H
X-Robots-Tag:noindex
X-PUBLISHED-TTL:PT1H
BEGIN:VTIMEZONE
TZID:Europe/Amsterdam
BEGIN:DAYLIGHT
TZOFFSETFROM:+0100
TZOFFSETTO:+0200
TZNAME:CEST
DTSTART:20240331T010000
END:DAYLIGHT
BEGIN:STANDARD
TZOFFSETFROM:+0200
TZOFFSETTO:+0100
TZNAME:CET
DTSTART:20241027T010000
END:STANDARD
BEGIN:DAYLIGHT
TZOFFSETFROM:+0100
TZOFFSETTO:+0200
TZNAME:CEST
DTSTART:20250330T010000
END:DAYLIGHT
BEGIN:STANDARD
TZOFFSETFROM:+0200
TZOFFSETTO:+0100
TZNAME:CET
DTSTART:20251026T010000
END:STANDARD
BEGIN:DAYLIGHT
TZOFFSETFROM:+0100
TZOFFSETTO:+0200
TZNAME:CEST
DTSTART:20260329T010000
END:DAYLIGHT
BEGIN:STANDARD
TZOFFSETFROM:+0200
TZOFFSETTO:+0100
TZNAME:CET
DTSTART:20261025T010000
END:STANDARD
END:VTIMEZONE
BEGIN:VEVENT
DTSTART;VALUE=DATE:20250206
DTEND;VALUE=DATE:20250331
DTSTAMP:20260420T174251
CREATED:20250203T092022Z
LAST-MODIFIED:20250203T092724Z
UID:2663-1738803600-1743296399@fotobondgelderlandzuid.nl
SUMMARY:Van Kinderdijk tot Kampen. Foto’s met pinhole cameraOOSTERBEEK
DESCRIPTION:Van Kinderdijk tot Kampen. Foto’s met pinhole camera \n\nDe tentoonstelling geeft een beeld van de wisselende landschappen die je passeert als je vanaf Kinderdijk de Lek volgt en vervolgens de Rijn en de IJssel tot aan Kampen. Ze zijn gemaakt met een “pinhole camera”\, een camera zonder lens. Door landschappen met een pinhole camera vast te leggen krijg je romantische en soms ook surrealistische beelden\, zoals ze ook te zien zijn in de huidige tentoonstelling. \nOntmoet de fotograaf op maandag 3 maart in de Zoomerij Oosterbeek en krijg een inkijkje in zijn werk. Wat houdt fotografie met een pinhole camera in wat maakt het anders dan met een gewone camera? Wat is zijn inspiratie? Stel tijdens de ontmoeting ook zelf je vragen. \nwanneer?\n6 februari 2025 t/m 29 maart 2024\nmaandag 13.00 – 18.00 uur en 18.00 – 20.00 uur\ndinsdag t/m donderdag 09.00 – 18.00 uur en 18.00 – 20.00 uur\nvrijdag 09.00 – 17.00 uur\nzaterdag 10.00 – 16.00 uur\nwaar?\nDe Zoomerij\nBibliotheek Oosterbeek\nGeneraal Urquhartlaan 1\,\n6861 GE  OOSTERBEEK\nupdates?\nOp het platform van de Fotobond staan eventuele updates
URL:https://fotobondgelderlandzuid.nl/event/van-kinderdijk-tot-kampen-fotos-met-pinhole-camera-oosterbeek/
LOCATION:De Zoomerij\, Bibliotheek Oosterbeek\, Generaal Urquhartlaan 1\, OOSTERBEEK\, 6861GE
CATEGORIES:Clubexpositie
ATTACH;FMTTYPE=image/jpeg:https://fotobondgelderlandzuid.nl/wp-content/uploads/2025/02/28_Oosterbeek_-_kerk_001d_-Henk-bij-de-weg.jpg
END:VEVENT
END:VCALENDAR