BEGIN:VCALENDAR
VERSION:2.0
PRODID:-//Fotobond Gelderland Zuid - ECPv6.15.20//NONSGML v1.0//EN
CALSCALE:GREGORIAN
METHOD:PUBLISH
X-WR-CALNAME:Fotobond Gelderland Zuid
X-ORIGINAL-URL:https://fotobondgelderlandzuid.nl
X-WR-CALDESC:Evenementen voor Fotobond Gelderland Zuid
REFRESH-INTERVAL;VALUE=DURATION:PT1H
X-Robots-Tag:noindex
X-PUBLISHED-TTL:PT1H
BEGIN:VTIMEZONE
TZID:Europe/Amsterdam
BEGIN:DAYLIGHT
TZOFFSETFROM:+0100
TZOFFSETTO:+0200
TZNAME:CEST
DTSTART:20230326T010000
END:DAYLIGHT
BEGIN:STANDARD
TZOFFSETFROM:+0200
TZOFFSETTO:+0100
TZNAME:CET
DTSTART:20231029T010000
END:STANDARD
BEGIN:DAYLIGHT
TZOFFSETFROM:+0100
TZOFFSETTO:+0200
TZNAME:CEST
DTSTART:20240331T010000
END:DAYLIGHT
BEGIN:STANDARD
TZOFFSETFROM:+0200
TZOFFSETTO:+0100
TZNAME:CET
DTSTART:20241027T010000
END:STANDARD
BEGIN:DAYLIGHT
TZOFFSETFROM:+0100
TZOFFSETTO:+0200
TZNAME:CEST
DTSTART:20250330T010000
END:DAYLIGHT
BEGIN:STANDARD
TZOFFSETFROM:+0200
TZOFFSETTO:+0100
TZNAME:CET
DTSTART:20251026T010000
END:STANDARD
END:VTIMEZONE
BEGIN:VEVENT
DTSTART;TZID=Europe/Amsterdam:20240212T140000
DTEND;TZID=Europe/Amsterdam:20240212T220000
DTSTAMP:20260424T120459
CREATED:20230528T095327Z
LAST-MODIFIED:20240122T165331Z
UID:2370-1707746400-1707775200@fotobondgelderlandzuid.nl
SUMMARY:Fotografiefestijn Kasteel Woerden
DESCRIPTION:Fotografiefestijn bij Fotografencafé kasteel Woerden\nOp maandag 12 februari 2024 organiseert de Koninklijke Fotobond in samenwerking met Fotografencafé kasteel Woerden het Fotografencafé. Een waar fotografiefestijn met boeiende lezingen\, inspirerende presentaties en professionele portfolioreviews. De unieke historische locatie\, kasteel Woerden is een inspirerende omgeving om je onder te dompelen in de fotografie. \nDatum: Maandag 12 februari 2024\nTijd: 14.00 uur tot 22.00 uur\nLocatie: Kasteel Woerden\, Kasteel 3\, 3441 BZ Woerden \nEen boeiend middag- en avondprogramma met lezingen\, workshops en fotoreviews.\nBob Luijks van Pixfactory neemt je mee in de wereld van compositie. Daan Schoonhoven\, oprichter van Pixfactory\, laat zien hoe je jezelf kunt ontwikkelen tot vogelfotograaf. Wiesje Peels brengt een ode aan Martien Coppens met haar DOKAR project (donkere kamer kar). \nEen passe-partout kost slechts € 10\,00. Hiermee heb je toegang tot alle lezingen\, presentaties en portfolioreviews. Ook kun je voor € 21\,00 meedoen aan het uitgebreide stamppottenbuffet (ter plekke in Kasteel Woerden te betalen\, pin is aanwezig). Ook muntjes voor overige consumpties à € 3\,- kun je hier kopen. \nAanmelden kan via de website. Houd In The Picture in de gaten voor actuele informatie en updates.\n\n\n\n 
URL:https://fotobondgelderlandzuid.nl/event/sluiting-inzending-foto-online/
LOCATION:Kasteel Woerden\, Kasteel 3\, WOERDEN\, 3441 BZ
CATEGORIES:Wedstrijd
ATTACH;FMTTYPE=image/jpeg:https://fotobondgelderlandzuid.nl/wp-content/uploads/2023/05/Kasteel-Woerden.jpg
END:VEVENT
END:VCALENDAR